BEGIN:VCALENDAR
VERSION:2.0
PRODID:SchoolNow
CALSCALE:GREGORIAN
BEGIN:VEVENT
UID:4d82945e-8cfa-11f0-8051-0a58a9feac02
DTSTAMP:20260421T145508Z
SUMMARY:Martin Luther King Jr. Day - No School
URL;VALUE=URI:https://www.reachroyals.org/parents/calendar/8596254/martin-l
 uther-king-jr-day-no-school
DTSTART;VALUE=DATE:20260119
DTEND;VALUE=DATE:20260120
END:VEVENT
END:VCALENDAR
