BEGIN:VCALENDAR
VERSION:2.0
PRODID:SchoolNow
CALSCALE:GREGORIAN
BEGIN:VEVENT
UID:4d829544-8cfa-11f0-8a48-0a58a9feac02
DTSTAMP:20260422T151507Z
SUMMARY:Day of STEAM
URL;VALUE=URI:https://www.reachroyals.org/parents/calendar/8596255/day-of-s
 team
DTSTART:20260410T144500Z
DTEND:20260410T203000Z
END:VEVENT
END:VCALENDAR
