BEGIN:VCALENDAR
VERSION:2.0
PRODID:SchoolNow
CALSCALE:GREGORIAN
BEGIN:VEVENT
UID:4d829896-8cfa-11f0-bc60-0a58a9feac02
DTSTAMP:20260421T145508Z
SUMMARY:REACH Board Meeting
LOCATION:Reach Leadership Steam Academy\, 3422 Rustin Ave\, Riverside\, CA 
 92507\, USA
URL;VALUE=URI:https://www.reachroyals.org/parents/calendar/8596258/reach-bo
 ard-meeting
DTSTART:20260225T021500Z
DTEND:20260225T031500Z
END:VEVENT
END:VCALENDAR
