BEGIN:VCALENDAR
VERSION:2.0
PRODID:SchoolNow
CALSCALE:GREGORIAN
BEGIN:VEVENT
UID:4d829986-8cfa-11f0-b78f-0a58a9feac02
DTSTAMP:20260422T151508Z
SUMMARY:REACH Board Meeting
LOCATION:Reach Leadership Steam Academy\, 3422 Rustin Ave\, Riverside\, CA 
 92507\, USA
URL;VALUE=URI:https://www.reachroyals.org/parents/calendar/8596259/reach-bo
 ard-meeting
DTSTART:20260429T011500Z
DTEND:20260429T021500Z
END:VEVENT
END:VCALENDAR
