BEGIN:VCALENDAR
VERSION:2.0
PRODID:SchoolNow
CALSCALE:GREGORIAN
BEGIN:VEVENT
UID:4d829b66-8cfa-11f0-8e5f-0a58a9feac02
DTSTAMP:20260422T212008Z
SUMMARY:REACH Board Meeting
LOCATION:Reach Leadership Steam Academy\, 3422 Rustin Ave\, Riverside\, CA 
 92507\, USA
URL;VALUE=URI:https://www.reachroyals.org/parents/calendar/8596261/reach-bo
 ard-meeting
DTSTART:20260624T011500Z
DTEND:20260624T021500Z
END:VEVENT
END:VCALENDAR
