BEGIN:VCALENDAR
VERSION:2.0
PRODID:SchoolNow
CALSCALE:GREGORIAN
BEGIN:VEVENT
UID:4aa7a624-8d2d-11f0-8990-0a58a9feac02
DTSTAMP:20260422T151508Z
SUMMARY:REACHELLA Spring Performance Fundraiser
URL;VALUE=URI:https://www.reachroyals.org/parents/calendar/8597630/reachell
 a-spring-performance-fundraiser
DTSTART:20260417T220000Z
DTEND:20260418T020000Z
END:VEVENT
END:VCALENDAR
