BEGIN:VCALENDAR
VERSION:2.0
PRODID:SchoolNow
CALSCALE:GREGORIAN
BEGIN:VEVENT
UID:4aa7c668-8d2d-11f0-a222-0a58a9feac02
DTSTAMP:20260422T151507Z
SUMMARY:Memorial Day - No School
URL;VALUE=URI:https://www.reachroyals.org/parents/calendar/8597631/memorial
 -day-no-school
DTSTART;VALUE=DATE:20260525
DTEND;VALUE=DATE:20260526
END:VEVENT
END:VCALENDAR
