BEGIN:VCALENDAR
VERSION:2.0
PRODID:SchoolNow
CALSCALE:GREGORIAN
BEGIN:VEVENT
UID:4aa7c820-8d2d-11f0-b732-0a58a9feac02
DTSTAMP:20260422T212007Z
SUMMARY:Staff PD - No School
URL;VALUE=URI:https://www.reachroyals.org/parents/calendar/8597632/staff-pd
 -no-school
DTSTART;VALUE=DATE:20260601
DTEND;VALUE=DATE:20260602
END:VEVENT
END:VCALENDAR
