BEGIN:VCALENDAR
VERSION:2.0
PRODID:SchoolNow
CALSCALE:GREGORIAN
BEGIN:VEVENT
UID:4aa7c942-8d2d-11f0-a286-0a58a9feac02
DTSTAMP:20260422T212007Z
SUMMARY:Kindergarten & 6th Grade Promotions
URL;VALUE=URI:https://www.reachroyals.org/parents/calendar/8597633/kinderga
 rten-6th-grade-promotions
DTSTART;VALUE=DATE:20260611
DTEND;VALUE=DATE:20260612
END:VEVENT
END:VCALENDAR
