BEGIN:VCALENDAR
VERSION:2.0
PRODID:SchoolNow
CALSCALE:GREGORIAN
BEGIN:VEVENT
UID:4aa7ca46-8d2d-11f0-a393-0a58a9feac02
DTSTAMP:20260422T212007Z
SUMMARY:8th Grade Promotion
URL;VALUE=URI:https://www.reachroyals.org/parents/calendar/8597634/8th-grad
 e-promotion
DTSTART;VALUE=DATE:20260612
DTEND;VALUE=DATE:20260613
END:VEVENT
END:VCALENDAR
