BEGIN:VCALENDAR
VERSION:2.0
PRODID:SchoolNow
CALSCALE:GREGORIAN
BEGIN:VEVENT
UID:4aa7cb40-8d2d-11f0-9dba-0a58a9feac02
DTSTAMP:20260422T212007Z
SUMMARY:Juneteenth - Campus Closed
URL;VALUE=URI:https://www.reachroyals.org/parents/calendar/8597635/juneteen
 th-campus-closed
DTSTART;VALUE=DATE:20260619
DTEND;VALUE=DATE:20260620
END:VEVENT
END:VCALENDAR
