BEGIN:VCALENDAR
VERSION:2.0
PRODID:SchoolNow
CALSCALE:GREGORIAN
BEGIN:VEVENT
UID:3d4a28fc-8e5f-11f0-bdfe-0a58a9feac02
DTSTAMP:20260421T145508Z
SUMMARY:Winter Break - No School
URL;VALUE=URI:https://www.reachroyals.org/parents/calendar/8605237/winter-b
 reak-no-school
DTSTART;VALUE=DATE:20251222
DTEND;VALUE=DATE:20260103
END:VEVENT
END:VCALENDAR
