BEGIN:VCALENDAR
VERSION:2.0
PRODID:SchoolNow
CALSCALE:GREGORIAN
BEGIN:VEVENT
UID:3d4a29ec-8e5f-11f0-b9c7-0a58a9feac02
DTSTAMP:20260421T145508Z
SUMMARY:Regular Release Day - Wednesday
URL;VALUE=URI:https://www.reachroyals.org/parents/calendar/8605238/regular-
 release-day-wednesday
DTSTART;VALUE=DATE:20260211
DTEND;VALUE=DATE:20260212
END:VEVENT
END:VCALENDAR
