BEGIN:VCALENDAR
VERSION:2.0
PRODID:SchoolNow
CALSCALE:GREGORIAN
BEGIN:VEVENT
UID:3d4a2ad2-8e5f-11f0-a552-0a58a9feac02
DTSTAMP:20260421T145508Z
SUMMARY:Minimum Day - Early Release - Friday
URL;VALUE=URI:https://www.reachroyals.org/parents/calendar/8605239/minimum-
 day-early-release-friday
DTSTART;VALUE=DATE:20260213
DTEND;VALUE=DATE:20260214
END:VEVENT
END:VCALENDAR
