BEGIN:VCALENDAR
VERSION:2.0
PRODID:SchoolNow
CALSCALE:GREGORIAN
BEGIN:VEVENT
UID:3d4a2bae-8e5f-11f0-89bd-0a58a9feac02
DTSTAMP:20260421T145508Z
SUMMARY:Presidents' Week Break - No School
URL;VALUE=URI:https://www.reachroyals.org/parents/calendar/8605240/presiden
 ts-week-break-no-school
DTSTART;VALUE=DATE:20260216
DTEND;VALUE=DATE:20260221
END:VEVENT
END:VCALENDAR
