BEGIN:VCALENDAR
VERSION:2.0
PRODID:SchoolNow
CALSCALE:GREGORIAN
BEGIN:VEVENT
UID:3d4a2c94-8e5f-11f0-9306-0a58a9feac02
DTSTAMP:20260422T151508Z
SUMMARY:Regular Release Day - Wednesday
URL;VALUE=URI:https://www.reachroyals.org/parents/calendar/8605241/regular-
 release-day-wednesday
DTSTART;VALUE=DATE:20260325
DTEND;VALUE=DATE:20260326
END:VEVENT
END:VCALENDAR
