BEGIN:VCALENDAR
VERSION:2.0
PRODID:SchoolNow
CALSCALE:GREGORIAN
BEGIN:VEVENT
UID:3d4a2d70-8e5f-11f0-a086-0a58a9feac02
DTSTAMP:20260422T151507Z
SUMMARY:Minimum Day - Early Release - Friday
URL;VALUE=URI:https://www.reachroyals.org/parents/calendar/8605242/minimum-
 day-early-release-friday
DTSTART;VALUE=DATE:20260327
DTEND;VALUE=DATE:20260328
END:VEVENT
END:VCALENDAR
