BEGIN:VCALENDAR
VERSION:2.0
PRODID:SchoolNow
CALSCALE:GREGORIAN
BEGIN:VEVENT
UID:3d4a2e56-8e5f-11f0-a417-0a58a9feac02
DTSTAMP:20260422T151507Z
SUMMARY:Spring Break - No School
URL;VALUE=URI:https://www.reachroyals.org/parents/calendar/8605243/spring-b
 reak-no-school
DTSTART;VALUE=DATE:20260330
DTEND;VALUE=DATE:20260404
END:VEVENT
END:VCALENDAR
