BEGIN:VCALENDAR
VERSION:2.0
PRODID:SchoolNow
CALSCALE:GREGORIAN
BEGIN:VEVENT
UID:3da268d2-8e5f-11f0-8ee2-0a58a9feac02
DTSTAMP:20260422T151507Z
SUMMARY:Staff PD - No School
URL;VALUE=URI:https://www.reachroyals.org/parents/calendar/8605246/staff-pd
 -no-school
DTSTART;VALUE=DATE:20260420
DTEND;VALUE=DATE:20260421
END:VEVENT
END:VCALENDAR
