BEGIN:VCALENDAR
VERSION:2.0
PRODID:SchoolNow
CALSCALE:GREGORIAN
BEGIN:VEVENT
UID:3da26a08-8e5f-11f0-a9f9-0a58a9feac02
DTSTAMP:20260422T151507Z
SUMMARY:Regular Release Day - Wednesday
URL;VALUE=URI:https://www.reachroyals.org/parents/calendar/8605247/regular-
 release-day-wednesday
DTSTART;VALUE=DATE:20260527
DTEND;VALUE=DATE:20260528
END:VEVENT
END:VCALENDAR
