BEGIN:VCALENDAR
VERSION:2.0
PRODID:SchoolNow
CALSCALE:GREGORIAN
BEGIN:VEVENT
UID:3da26b0c-8e5f-11f0-b9a8-0a58a9feac02
DTSTAMP:20260422T151507Z
SUMMARY:Minimum Day - Early Release - Friday
URL;VALUE=URI:https://www.reachroyals.org/parents/calendar/8605248/minimum-
 day-early-release-friday
DTSTART;VALUE=DATE:20260529
DTEND;VALUE=DATE:20260530
END:VEVENT
END:VCALENDAR
