BEGIN:VCALENDAR
VERSION:2.0
PRODID:SchoolNow
CALSCALE:GREGORIAN
BEGIN:VEVENT
UID:3da26bfc-8e5f-11f0-ad6e-0a58a9feac02
DTSTAMP:20260422T151507Z
SUMMARY:BRIDGE After School Program Closed
URL;VALUE=URI:https://www.reachroyals.org/parents/calendar/8605249/bridge-a
 fter-school-program-closed
DTSTART;VALUE=DATE:20260529
DTEND;VALUE=DATE:20260530
END:VEVENT
END:VCALENDAR
