BEGIN:VCALENDAR
VERSION:2.0
PRODID:SchoolNow
CALSCALE:GREGORIAN
BEGIN:VEVENT
UID:3da26e18-8e5f-11f0-88d4-0a58a9feac02
DTSTAMP:20260422T212007Z
SUMMARY:Last Day of School
URL;VALUE=URI:https://www.reachroyals.org/parents/calendar/8605251/last-day
 -of-school
DTSTART;VALUE=DATE:20260612
DTEND;VALUE=DATE:20260613
END:VEVENT
END:VCALENDAR
