BEGIN:VCALENDAR
VERSION:2.0
PRODID:SchoolNow
CALSCALE:GREGORIAN
BEGIN:VEVENT
UID:3da26efe-8e5f-11f0-9a68-0a58a9feac02
DTSTAMP:20260422T212007Z
SUMMARY:BRIDGE After School Program Closed
URL;VALUE=URI:https://www.reachroyals.org/parents/calendar/8605252/bridge-a
 fter-school-program-closed
DTSTART;VALUE=DATE:20260612
DTEND;VALUE=DATE:20260613
END:VEVENT
END:VCALENDAR
