BEGIN:VCALENDAR
VERSION:2.0
PRODID:SchoolNow
CALSCALE:GREGORIAN
BEGIN:VEVENT
UID:3da26fe4-8e5f-11f0-b574-0a58a9feac02
DTSTAMP:20260422T212007Z
SUMMARY:Summer STEAM Camp Begins
URL;VALUE=URI:https://www.reachroyals.org/parents/calendar/8605253/summer-s
 team-camp-begins
DTSTART;VALUE=DATE:20260615
DTEND;VALUE=DATE:20260616
END:VEVENT
END:VCALENDAR
