BEGIN:VCALENDAR
VERSION:2.0
PRODID:SchoolNow
CALSCALE:GREGORIAN
BEGIN:VEVENT
UID:3da2872c-8e5f-11f0-8d71-0a58a9feac02
DTSTAMP:20260421T145508Z
SUMMARY:Minimum Day - Early Release
URL;VALUE=URI:https://www.reachroyals.org/parents/calendar/8605278/minimum-
 day-early-release
DTSTART;VALUE=DATE:20260128
DTEND;VALUE=DATE:20260129
END:VEVENT
END:VCALENDAR
