BEGIN:VCALENDAR
VERSION:2.0
PRODID:SchoolNow
CALSCALE:GREGORIAN
BEGIN:VEVENT
UID:3da289ca-8e5f-11f0-9a00-0a58a9feac02
DTSTAMP:20260421T145508Z
SUMMARY:Minimum Day - Early Release
URL;VALUE=URI:https://www.reachroyals.org/parents/calendar/8605281/minimum-
 day-early-release
DTSTART;VALUE=DATE:20260225
DTEND;VALUE=DATE:20260226
END:VEVENT
END:VCALENDAR
