BEGIN:VCALENDAR
VERSION:2.0
PRODID:SchoolNow
CALSCALE:GREGORIAN
BEGIN:VEVENT
UID:3da29190-8e5f-11f0-9bd8-0a58a9feac02
DTSTAMP:20260422T151508Z
SUMMARY:Minimum Day - Early Release
URL;VALUE=URI:https://www.reachroyals.org/parents/calendar/8605290/minimum-
 day-early-release
DTSTART;VALUE=DATE:20260513
DTEND;VALUE=DATE:20260514
END:VEVENT
END:VCALENDAR
