BEGIN:VCALENDAR
VERSION:2.0
PRODID:SchoolNow
CALSCALE:GREGORIAN
BEGIN:VEVENT
UID:3da29348-8e5f-11f0-acb0-0a58a9feac02
DTSTAMP:20260422T212008Z
SUMMARY:Minimum Day - Early Release
URL;VALUE=URI:https://www.reachroyals.org/parents/calendar/8605292/minimum-
 day-early-release
DTSTART;VALUE=DATE:20260603
DTEND;VALUE=DATE:20260604
END:VEVENT
END:VCALENDAR
