BEGIN:VCALENDAR
VERSION:2.0
PRODID:SchoolNow
CALSCALE:GREGORIAN
BEGIN:VEVENT
UID:b31e3288-98ed-11f0-af45-0a58a9feac02
DTSTAMP:20260421T145508Z
SUMMARY:REACH School Site Council Meeting
URL;VALUE=URI:https://www.reachroyals.org/parents/calendar/8658142/reach-sc
 hool-site-council-meeting
DTSTART:20260227T020000Z
DTEND:20260227T030000Z
ATTACH;FILENAME=SSC Regular Meeting Agenda 2-26-26.pdf;FMTTYPE=application/
 pdf:https://drive.google.com/open?id=1sgIHOIgD0ujzeaG_75PHhLWoW_OK0bMw
END:VEVENT
END:VCALENDAR
