BEGIN:VCALENDAR
VERSION:2.0
PRODID:SchoolNow
CALSCALE:GREGORIAN
BEGIN:VEVENT
UID:0e30d650-a5ad-11f0-b15a-0a58a9feac02
DTSTAMP:20260421T145508Z
SUMMARY:Awards Assemby: T1 Honor Roll (ES)
URL;VALUE=URI:https://www.reachroyals.org/parents/calendar/8710816/awards-a
 ssemby-t1-honor-roll-es
DTSTART;VALUE=DATE:20260108
DTEND;VALUE=DATE:20260109
END:VEVENT
END:VCALENDAR
