BEGIN:VCALENDAR
VERSION:2.0
PRODID:SchoolNow
CALSCALE:GREGORIAN
BEGIN:VEVENT
UID:0e30d72c-a5ad-11f0-96b9-0a58a9feac02
DTSTAMP:20260421T145508Z
SUMMARY:Awards Assemby: T1 Honor Roll (MS)
URL;VALUE=URI:https://www.reachroyals.org/parents/calendar/8710817/awards-a
 ssemby-t1-honor-roll-ms
DTSTART;VALUE=DATE:20260115
DTEND;VALUE=DATE:20260116
END:VEVENT
END:VCALENDAR
