BEGIN:VCALENDAR
VERSION:2.0
PRODID:SchoolNow
CALSCALE:GREGORIAN
BEGIN:VEVENT
UID:0e30d9c0-a5ad-11f0-bad1-0a58a9feac02
DTSTAMP:20260421T145508Z
SUMMARY:Winter Break - No School
URL;VALUE=URI:https://www.reachroyals.org/parents/calendar/8710820/winter-b
 reak-no-school
DTSTART;VALUE=DATE:20251221
DTEND;VALUE=DATE:20260103
END:VEVENT
END:VCALENDAR
