BEGIN:VCALENDAR
VERSION:2.0
PRODID:SchoolNow
CALSCALE:GREGORIAN
BEGIN:VEVENT
UID:3dbc0f84-c04c-11f0-8a41-0a58a9feac02
DTSTAMP:20260421T145508Z
SUMMARY:Prospective Parent Info Session
LOCATION:3422 Rustin Ave\, Riverside\, CA 92507\, USA
URL;VALUE=URI:https://www.reachroyals.org/parents/calendar/8793139/prospect
 ive-parent-info-session
DTSTART:20260121T010000Z
DTEND:20260121T020000Z
END:VEVENT
END:VCALENDAR
