BEGIN:VCALENDAR
VERSION:2.0
PRODID:SchoolNow
CALSCALE:GREGORIAN
BEGIN:VEVENT
UID:371b4ee4-c0e5-11f0-9767-0afff606ced9
DTSTAMP:20260421T145508Z
SUMMARY:MS Jogathon Pajama Day Incentive
URL;VALUE=URI:https://www.reachroyals.org/parents/calendar/8794695/ms-jogat
 hon-pajama-day-incentive
DTSTART;VALUE=DATE:20260113
DTEND;VALUE=DATE:20260114
END:VEVENT
END:VCALENDAR
