BEGIN:VCALENDAR
VERSION:2.0
PRODID:SchoolNow
CALSCALE:GREGORIAN
BEGIN:VEVENT
UID:371b54e8-c0e5-11f0-987f-0afff606ced9
DTSTAMP:20260421T145508Z
SUMMARY:ELAC Meeting
LOCATION:https://bit.ly/reach-elac-meetings
URL;VALUE=URI:https://www.reachroyals.org/parents/calendar/8794696/elac-mee
 ting
DTSTART:20260130T020000Z
DTEND:20260130T030000Z
END:VEVENT
END:VCALENDAR
