BEGIN:VCALENDAR
VERSION:2.0
PRODID:SchoolNow
CALSCALE:GREGORIAN
BEGIN:VEVENT
UID:371b57fe-c0e5-11f0-b944-0afff606ced9
DTSTAMP:20260421T145508Z
SUMMARY:Top Class Pizza Party - Jogathon Incentive
URL;VALUE=URI:https://www.reachroyals.org/parents/calendar/8794697/top-clas
 s-pizza-party-jogathon-incentive
DTSTART;VALUE=DATE:20260116
DTEND;VALUE=DATE:20260117
END:VEVENT
END:VCALENDAR
