BEGIN:VCALENDAR
VERSION:2.0
PRODID:SchoolNow
CALSCALE:GREGORIAN
BEGIN:VEVENT
UID:371b5a10-c0e5-11f0-b18a-0afff606ced9
DTSTAMP:20260421T145508Z
SUMMARY:Principal for the Day - Jogathon Top Earner
URL;VALUE=URI:https://www.reachroyals.org/parents/calendar/8794698/principa
 l-for-the-day-jogathon-top-earner
DTSTART;VALUE=DATE:20260114
DTEND;VALUE=DATE:20260115
END:VEVENT
END:VCALENDAR
