BEGIN:VCALENDAR
VERSION:2.0
PRODID:SchoolNow
CALSCALE:GREGORIAN
BEGIN:VEVENT
UID:371b5f10-c0e5-11f0-96a7-0afff606ced9
DTSTAMP:20260421T145508Z
SUMMARY:Jogathon Top 25 Earners - Video Game Afternoon
URL;VALUE=URI:https://www.reachroyals.org/parents/calendar/8794701/jogathon
 -top-25-earners-video-game-afternoon
DTSTART;VALUE=DATE:20260115
DTEND;VALUE=DATE:20260116
END:VEVENT
END:VCALENDAR
