BEGIN:VCALENDAR
VERSION:2.0
PRODID:SchoolNow
CALSCALE:GREGORIAN
BEGIN:VEVENT
UID:371b6046-c0e5-11f0-898c-0afff606ced9
DTSTAMP:20260421T145508Z
SUMMARY:Mad Monster Lab - Jogathon Incentive for $100+ Earners
URL;VALUE=URI:https://www.reachroyals.org/parents/calendar/8794702/mad-mons
 ter-lab-jogathon-incentive-for-100-earners
DTSTART;VALUE=DATE:20260127
DTEND;VALUE=DATE:20260128
END:VEVENT
END:VCALENDAR
