BEGIN:VCALENDAR
VERSION:2.0
PRODID:SchoolNow
CALSCALE:GREGORIAN
BEGIN:VEVENT
UID:fbfd4014-f0b0-11f0-a21f-0a58a9feac02
DTSTAMP:20260421T145508Z
SUMMARY:AAPAC Meeting on Zoom
URL;VALUE=URI:https://www.reachroyals.org/parents/calendar/8835458/aapac-me
 eting-on-zoom
DTSTART:20260116T020000Z
DTEND:20260116T030000Z
END:VEVENT
END:VCALENDAR
