BEGIN:VCALENDAR
VERSION:2.0
PRODID:SchoolNow
CALSCALE:GREGORIAN
BEGIN:VEVENT
UID:abe9dde8-f0e3-11f0-9178-0affd3c04c2d
DTSTAMP:20260421T145508Z
SUMMARY:Sibling Enrollment
URL;VALUE=URI:https://www.reachroyals.org/parents/calendar/8835816/sibling-
 enrollment
DTSTART;VALUE=DATE:20260202
DTEND;VALUE=DATE:20260228
END:VEVENT
END:VCALENDAR
