BEGIN:VCALENDAR
VERSION:2.0
PRODID:SchoolNow
CALSCALE:GREGORIAN
BEGIN:VEVENT
UID:abea0228-f0e3-11f0-81d3-0affd3c04c2d
DTSTAMP:20260421T145508Z
SUMMARY:Re-enrollment
URL;VALUE=URI:https://www.reachroyals.org/parents/calendar/8835817/re-enrol
 lment
DTSTART;VALUE=DATE:20260202
DTEND;VALUE=DATE:20260214
END:VEVENT
END:VCALENDAR
