BEGIN:VCALENDAR
VERSION:2.0
PRODID:SchoolNow
CALSCALE:GREGORIAN
BEGIN:VEVENT
UID:d7fc5d9c-0138-11f1-936d-0afffa330509
DTSTAMP:20260421T145508Z
SUMMARY:Spelling Bee
URL;VALUE=URI:https://www.reachroyals.org/parents/calendar/8848751/spelling
 -bee
DTSTART;VALUE=DATE:20260205
DTEND;VALUE=DATE:20260206
END:VEVENT
END:VCALENDAR
