BEGIN:VCALENDAR
VERSION:2.0
PRODID:SchoolNow
CALSCALE:GREGORIAN
BEGIN:VEVENT
UID:d7fc6350-0138-11f1-9be4-0afffa330509
DTSTAMP:20260421T145508Z
SUMMARY:Cheer Showcase
URL;VALUE=URI:https://www.reachroyals.org/parents/calendar/8848752/cheer-sh
 owcase
DTSTART:20260213T010000Z
DTEND:20260213T020000Z
END:VEVENT
END:VCALENDAR
