BEGIN:VCALENDAR
VERSION:2.0
PRODID:SchoolNow
CALSCALE:GREGORIAN
BEGIN:VEVENT
UID:d7fc64fe-0138-11f1-af5f-0afffa330509
DTSTAMP:20260421T145508Z
SUMMARY:Day of Play
URL;VALUE=URI:https://www.reachroyals.org/parents/calendar/8848753/day-of-p
 lay
DTSTART;VALUE=DATE:20260204
DTEND;VALUE=DATE:20260205
END:VEVENT
END:VCALENDAR
