BEGIN:VCALENDAR
VERSION:2.0
PRODID:SchoolNow
CALSCALE:GREGORIAN
BEGIN:VEVENT
UID:d7fc67a6-0138-11f1-b8ef-0afffa330509
DTSTAMP:20260421T145508Z
SUMMARY:Sweet Moments Dance
URL;VALUE=URI:https://www.reachroyals.org/parents/calendar/8848754/sweet-mo
 ments-dance
DTSTART;VALUE=DATE:20260213
DTEND;VALUE=DATE:20260214
END:VEVENT
END:VCALENDAR
