BEGIN:VCALENDAR
VERSION:2.0
PRODID:SchoolNow
CALSCALE:GREGORIAN
BEGIN:VEVENT
UID:d7fc6a30-0138-11f1-82f7-0afffa330509
DTSTAMP:20260421T145508Z
SUMMARY:Valentine's Grams Distributed
URL;VALUE=URI:https://www.reachroyals.org/parents/calendar/8848755/valentin
 es-grams-distributed
DTSTART;VALUE=DATE:20260212
DTEND;VALUE=DATE:20260213
END:VEVENT
END:VCALENDAR
