BEGIN:VCALENDAR
VERSION:2.0
PRODID:SchoolNow
CALSCALE:GREGORIAN
BEGIN:VEVENT
UID:d7fc6b2a-0138-11f1-b698-0afffa330509
DTSTAMP:20260421T145508Z
SUMMARY:Middle School Spirit Week
URL;VALUE=URI:https://www.reachroyals.org/parents/calendar/8848756/middle-s
 chool-spirit-week
DTSTART;VALUE=DATE:20260223
DTEND;VALUE=DATE:20260228
END:VEVENT
END:VCALENDAR
