BEGIN:VCALENDAR
VERSION:2.0
PRODID:SchoolNow
CALSCALE:GREGORIAN
BEGIN:VEVENT
UID:52c25bde-0b94-11f1-bf7f-0e33a55937bb
DTSTAMP:20260421T145508Z
SUMMARY:Baba the Storyteller Assemblies
URL;VALUE=URI:https://www.reachroyals.org/parents/calendar/8857248/baba-the
 -storyteller-assemblies
DTSTART;VALUE=DATE:20260227
DTEND;VALUE=DATE:20260228
END:VEVENT
END:VCALENDAR
